BEGIN:VCALENDAR
PRODID:Philharmonie.lu
VERSION:2.0
METHOD:PUBLISH
BEGIN:VEVENT
DTSTAMP:20260423T193642Z
DTSTART:20241112T183000Z
DTEND:20241112T193000Z
LOCATION:1, Place de l'Europe, Luxembourg, 1499, Luxembourg
SUMMARY:Rudolf Buchbinder, Nikolaj Szeps-Znaider & Gautier Capuçon
DESCRIPTION:An evening with Schubert
UID:8666
URL:https://www.philharmonie.lu/en/programme/2024-25/rudolf-buchbinder-nikolaj-szeps-znaider-gautier-capucon-000000e900187e62
END:VEVENT
END:VCALENDAR
