BEGIN:VCALENDAR
PRODID:Philharmonie.lu
VERSION:2.0
METHOD:PUBLISH
BEGIN:VEVENT
DTSTAMP:20260423T114200Z
DTSTART:20240923T173000Z
DTEND:20240923T183000Z
LOCATION:1, Place de l'Europe, Luxembourg, 1499, Luxembourg
SUMMARY:Été indien
DESCRIPTION:
UID:8784
URL:https://www.philharmonie.lu/en/programme/2024-25/ete-indien-000000e9001962ad
END:VEVENT
END:VCALENDAR
