BEGIN:VCALENDAR
PRODID:Philharmonie.lu
VERSION:2.0
METHOD:PUBLISH
BEGIN:VEVENT
DTSTAMP:20260423T192514Z
DTSTART:20250321T183000Z
DTEND:20250321T193000Z
LOCATION:1, Place de l'Europe, Luxembourg, 1499, Luxembourg
SUMMARY:Sonates & Arabesques
DESCRIPTION:Alexander Gavrylyuk 
UID:8811
URL:https://www.philharmonie.lu/en/programme/2024-25/sonates-arabesques-000000e900197762
END:VEVENT
END:VCALENDAR
