BEGIN:VCALENDAR
PRODID:Philharmonie.lu
VERSION:2.0
METHOD:PUBLISH
BEGIN:VEVENT
DTSTAMP:20260423T192351Z
DTSTART:20241130T183000Z
DTEND:20241130T193000Z
LOCATION:1, Place de l'Europe, Luxembourg, 1499, Luxembourg
SUMMARY:The Ukulele Orchestra of Great Britain
DESCRIPTION:
UID:8823
URL:https://www.philharmonie.lu/en/programme/2024-25/the-ukulele-orchestra-of-great-britain-000000e900198091
END:VEVENT
END:VCALENDAR
