BEGIN:VCALENDAR
PRODID:Philharmonie.lu
VERSION:2.0
METHOD:PUBLISH
BEGIN:VEVENT
DTSTAMP:20260421T183214Z
DTSTART:20250112T150000Z
DTEND:20250112T160000Z
LOCATION:1, Place de l'Europe, Luxembourg, 1499, Luxembourg
SUMMARY:Mozart, der Bratscher
DESCRIPTION:Gesprächskonzert
UID:9041
URL:https://www.philharmonie.lu/en/programme/2024-25/mozart-der-bratscher-000000e9001971e8
END:VEVENT
END:VCALENDAR
