BEGIN:VCALENDAR
PRODID:Philharmonie.lu
VERSION:2.0
METHOD:PUBLISH
BEGIN:VEVENT
DTSTAMP:20260423T192520Z
DTSTART:20240921T173000Z
DTEND:20240921T183000Z
LOCATION:1, Place de l'Europe, Luxembourg, 1499, Luxembourg
SUMMARY:Oumou Sangaré
DESCRIPTION:Timbuktu
UID:9184
URL:https://www.philharmonie.lu/en/programme/2024-25/oumou-sangare-000000e900199a1f
END:VEVENT
END:VCALENDAR
