BEGIN:VCALENDAR
PRODID:Philharmonie.lu
VERSION:2.0
METHOD:PUBLISH
BEGIN:VEVENT
DTSTAMP:20260419T130300Z
DTSTART:20241121T190000Z
DTEND:20241121T200000Z
LOCATION:1, Place de l'Europe, Luxembourg, 1499, Luxembourg
SUMMARY:As we Breathe 
DESCRIPTION:Two Concertos – Two Physical Extremes
UID:9466
URL:https://www.philharmonie.lu/en/programme/2024-25/as-we-breathe-000000e900186ca9
END:VEVENT
END:VCALENDAR
